Package: flowWorkspaceData Version: 3.18.0 Command: /home/biocbuild/bbs-3.20-bioc/R/bin/R CMD build --keep-empty-dirs --no-resave-data flowWorkspaceData StartedAt: 2025-01-30 11:17:30 -0500 (Thu, 30 Jan 2025) EndedAt: 2025-01-30 11:17:45 -0500 (Thu, 30 Jan 2025) EllapsedTime: 15.0 seconds RetCode: 0 Status: OK PackageFile: flowWorkspaceData_3.18.0.tar.gz PackageFileSize: 71.15 MiB