Package: flowWorkspaceData Version: 3.18.0 Command: /home/biocbuild/bbs-3.20-bioc/R/bin/R CMD INSTALL flowWorkspaceData StartedAt: 2025-01-30 10:55:41 -0500 (Thu, 30 Jan 2025) EndedAt: 2025-01-30 10:55:44 -0500 (Thu, 30 Jan 2025) EllapsedTime: 2.7 seconds RetCode: 0 Status: OK