Package: fourDNData Version: 1.6.0 Command: /home/biocbuild/bbs-3.20-bioc/R/bin/R CMD build --keep-empty-dirs --no-resave-data fourDNData StartedAt: 2025-02-06 11:16:58 -0500 (Thu, 06 Feb 2025) EndedAt: 2025-02-06 11:17:36 -0500 (Thu, 06 Feb 2025) EllapsedTime: 37.2 seconds RetCode: 0 Status: OK PackageFile: fourDNData_1.6.0.tar.gz PackageFileSize: 493.7 KiB