Package: fourDNData Version: 1.6.0 Command: /home/biocbuild/bbs-3.20-bioc/R/bin/R CMD check --install=check:fourDNData.install-out.txt --library=/home/biocbuild/bbs-3.20-bioc/R/site-library --timings fourDNData_1.6.0.tar.gz StartedAt: 2025-02-06 12:03:22 -0500 (Thu, 06 Feb 2025) EndedAt: 2025-02-06 12:05:33 -0500 (Thu, 06 Feb 2025) EllapsedTime: 130.7 seconds RetCode: 0 Status: OK CheckDir: fourDNData.Rcheck Warnings: 0