Package: gDNAinRNAseqData Version: 1.6.0 Command: /home/biocbuild/bbs-3.20-bioc/R/bin/R CMD build --keep-empty-dirs --no-resave-data gDNAinRNAseqData StartedAt: 2025-02-06 11:17:38 -0500 (Thu, 06 Feb 2025) EndedAt: 2025-02-06 11:18:26 -0500 (Thu, 06 Feb 2025) EllapsedTime: 48.7 seconds RetCode: 0 Status: OK PackageFile: gDNAinRNAseqData_1.6.0.tar.gz PackageFileSize: 296.3 KiB