Package: gageData Version: 2.44.0 Command: /home/biocbuild/bbs-3.20-bioc/R/bin/R CMD build --keep-empty-dirs --no-resave-data gageData StartedAt: 2025-01-30 11:18:20 -0500 (Thu, 30 Jan 2025) EndedAt: 2025-01-30 11:18:25 -0500 (Thu, 30 Jan 2025) EllapsedTime: 4.6 seconds RetCode: 0 Status: OK PackageFile: gageData_2.44.0.tar.gz PackageFileSize: 10.59 MiB