Package: gageData Version: 2.44.0 Command: /home/biocbuild/bbs-3.20-bioc/R/bin/R CMD check --install=check:gageData.install-out.txt --library=/home/biocbuild/bbs-3.20-bioc/R/site-library --timings gageData_2.44.0.tar.gz StartedAt: 2025-01-30 12:06:04 -0500 (Thu, 30 Jan 2025) EndedAt: 2025-01-30 12:06:47 -0500 (Thu, 30 Jan 2025) EllapsedTime: 42.7 seconds RetCode: 0 Status: OK CheckDir: gageData.Rcheck Warnings: 0