Package: gageData Version: 2.44.0 Command: /home/biocbuild/bbs-3.20-bioc/R/bin/R CMD INSTALL gageData StartedAt: 2025-01-30 10:55:23 -0500 (Thu, 30 Jan 2025) EndedAt: 2025-01-30 10:55:28 -0500 (Thu, 30 Jan 2025) EllapsedTime: 4.5 seconds RetCode: 0 Status: OK