Package: gcspikelite Version: 1.44.0 Command: /home/biocbuild/bbs-3.20-bioc/R/bin/R CMD build --keep-empty-dirs --no-resave-data gcspikelite StartedAt: 2025-02-06 11:17:37 -0500 (Thu, 06 Feb 2025) EndedAt: 2025-02-06 11:18:30 -0500 (Thu, 06 Feb 2025) EllapsedTime: 52.9 seconds RetCode: 0 Status: OK PackageFile: gcspikelite_1.44.0.tar.gz PackageFileSize: 21.63 MiB