Package: gpaExample Version: 1.18.0 Command: /home/biocbuild/bbs-3.20-bioc/R/bin/R CMD check --install=check:gpaExample.install-out.txt --library=/home/biocbuild/bbs-3.20-bioc/R/site-library --timings gpaExample_1.18.0.tar.gz StartedAt: 2025-01-30 12:07:17 -0500 (Thu, 30 Jan 2025) EndedAt: 2025-01-30 12:07:32 -0500 (Thu, 30 Jan 2025) EllapsedTime: 15.0 seconds RetCode: 0 Status: OK CheckDir: gpaExample.Rcheck Warnings: 0