Package: gpaExample Version: 1.18.0 Command: /home/biocbuild/bbs-3.20-bioc/R/bin/R CMD INSTALL gpaExample StartedAt: 2025-02-06 10:55:54 -0500 (Thu, 06 Feb 2025) EndedAt: 2025-02-06 10:55:55 -0500 (Thu, 06 Feb 2025) EllapsedTime: 1.0 seconds RetCode: 0 Status: OK