Package: hapmap500ksty Version: 1.48.0 Command: /home/biocbuild/bbs-3.20-bioc/R/bin/R CMD INSTALL hapmap500ksty StartedAt: 2025-02-06 10:55:39 -0500 (Thu, 06 Feb 2025) EndedAt: 2025-02-06 10:55:42 -0500 (Thu, 06 Feb 2025) EllapsedTime: 3.1 seconds RetCode: 0 Status: OK