Package: healthyControlsPresenceChecker Version: 1.10.0 Command: /home/biocbuild/bbs-3.20-bioc/R/bin/R CMD build --keep-empty-dirs --no-resave-data healthyControlsPresenceChecker StartedAt: 2025-01-30 11:22:26 -0500 (Thu, 30 Jan 2025) EndedAt: 2025-01-30 11:23:03 -0500 (Thu, 30 Jan 2025) EllapsedTime: 36.8 seconds RetCode: 0 Status: OK PackageFile: healthyControlsPresenceChecker_1.10.0.tar.gz PackageFileSize: 220 KiB