Package: healthyControlsPresenceChecker Version: 1.10.0 Command: /home/biocbuild/bbs-3.20-bioc/R/bin/R CMD INSTALL healthyControlsPresenceChecker StartedAt: 2025-02-06 11:02:16 -0500 (Thu, 06 Feb 2025) EndedAt: 2025-02-06 11:02:37 -0500 (Thu, 06 Feb 2025) EllapsedTime: 20.8 seconds RetCode: 0 Status: OK