Package: healthyFlowData Version: 1.44.0 Maintainer: Ariful Azad MaintainerEmail: aazad at purdue.edu git_url: https://git.bioconductor.org/packages/healthyFlowData git_branch: RELEASE_3_20 git_last_commit: 4db75f2 git_last_commit_date: 2024-10-29 09:38:17 -0500 (Tue, 29 Oct 2024)