Package: healthyFlowData Version: 1.44.0 Command: /home/biocbuild/bbs-3.20-bioc/R/bin/R CMD build --keep-empty-dirs --no-resave-data healthyFlowData StartedAt: 2025-02-06 11:21:31 -0500 (Thu, 06 Feb 2025) EndedAt: 2025-02-06 11:21:40 -0500 (Thu, 06 Feb 2025) EllapsedTime: 9.7 seconds RetCode: 0 Status: OK PackageFile: healthyFlowData_1.44.0.tar.gz PackageFileSize: 10.89 MiB