Package: healthyFlowData Version: 1.44.0 Command: /home/biocbuild/bbs-3.20-bioc/R/bin/R CMD check --install=check:healthyFlowData.install-out.txt --library=/home/biocbuild/bbs-3.20-bioc/R/site-library --timings healthyFlowData_1.44.0.tar.gz StartedAt: 2025-02-06 12:08:32 -0500 (Thu, 06 Feb 2025) EndedAt: 2025-02-06 12:09:04 -0500 (Thu, 06 Feb 2025) EllapsedTime: 32.3 seconds RetCode: 0 Status: OK CheckDir: healthyFlowData.Rcheck Warnings: 0