Package: hgu133abarcodevecs Version: 1.44.0 Maintainer: Matthew N. McCall MaintainerEmail: mmccall at jhsph.edu git_url: https://git.bioconductor.org/packages/hgu133abarcodevecs git_branch: RELEASE_3_20 git_last_commit: 3367323 git_last_commit_date: 2024-10-29 09:27:43 -0500 (Tue, 29 Oct 2024)