Package: hgu133abarcodevecs Version: 1.44.0 Command: /home/biocbuild/bbs-3.20-bioc/R/bin/R CMD check --install=check:hgu133abarcodevecs.install-out.txt --library=/home/biocbuild/bbs-3.20-bioc/R/site-library --timings hgu133abarcodevecs_1.44.0.tar.gz StartedAt: 2025-01-30 12:10:18 -0500 (Thu, 30 Jan 2025) EndedAt: 2025-01-30 12:10:28 -0500 (Thu, 30 Jan 2025) EllapsedTime: 9.7 seconds RetCode: 0 Status: OK CheckDir: hgu133abarcodevecs.Rcheck Warnings: 0