Package: hgu2beta7 Version: 1.46.0 Command: /home/biocbuild/bbs-3.20-bioc/R/bin/R CMD build --keep-empty-dirs --no-resave-data hgu2beta7 StartedAt: 2025-01-30 11:22:41 -0500 (Thu, 30 Jan 2025) EndedAt: 2025-01-30 11:22:42 -0500 (Thu, 30 Jan 2025) EllapsedTime: 1.0 seconds RetCode: 0 Status: OK PackageFile: hgu2beta7_1.46.0.tar.gz PackageFileSize: 6.409 MiB