Package: imcdatasets Version: 1.14.0 Command: /home/biocbuild/bbs-3.20-bioc/R/bin/R CMD check --install=check:imcdatasets.install-out.txt --library=/home/biocbuild/bbs-3.20-bioc/R/site-library --timings imcdatasets_1.14.0.tar.gz StartedAt: 2025-01-30 12:14:09 -0500 (Thu, 30 Jan 2025) EndedAt: 2025-01-30 12:29:28 -0500 (Thu, 30 Jan 2025) EllapsedTime: 919.8 seconds RetCode: 0 Status: OK CheckDir: imcdatasets.Rcheck Warnings: 0