Package: kidpack Version: 1.48.0 Command: /home/biocbuild/bbs-3.20-bioc/R/bin/R CMD build --keep-empty-dirs --no-resave-data kidpack StartedAt: 2025-01-30 11:24:49 -0500 (Thu, 30 Jan 2025) EndedAt: 2025-01-30 11:25:03 -0500 (Thu, 30 Jan 2025) EllapsedTime: 13.7 seconds RetCode: 0 Status: OK PackageFile: kidpack_1.48.0.tar.gz PackageFileSize: 18.39 MiB