Package: kidpack Version: 1.48.0 Command: /home/biocbuild/bbs-3.20-bioc/R/bin/R CMD check --install=check:kidpack.install-out.txt --library=/home/biocbuild/bbs-3.20-bioc/R/site-library --timings kidpack_1.48.0.tar.gz StartedAt: 2025-01-30 12:15:10 -0500 (Thu, 30 Jan 2025) EndedAt: 2025-01-30 12:15:40 -0500 (Thu, 30 Jan 2025) EllapsedTime: 30.3 seconds RetCode: 0 Status: WARNINGS CheckDir: kidpack.Rcheck Warnings: 1