Package: kidpack Version: 1.48.0 Command: /home/biocbuild/bbs-3.20-bioc/R/bin/R CMD INSTALL kidpack StartedAt: 2025-01-30 10:56:13 -0500 (Thu, 30 Jan 2025) EndedAt: 2025-01-30 10:56:20 -0500 (Thu, 30 Jan 2025) EllapsedTime: 6.5 seconds RetCode: 0 Status: OK