Package: leeBamViews Version: 1.42.0 Command: /home/biocbuild/bbs-3.20-bioc/R/bin/R CMD check --install=check:leeBamViews.install-out.txt --library=/home/biocbuild/bbs-3.20-bioc/R/site-library --timings leeBamViews_1.42.0.tar.gz StartedAt: 2025-02-06 12:14:16 -0500 (Thu, 06 Feb 2025) EndedAt: 2025-02-06 12:17:55 -0500 (Thu, 06 Feb 2025) EllapsedTime: 218.7 seconds RetCode: 0 Status: OK CheckDir: leeBamViews.Rcheck Warnings: 0