Package: leukemiasEset Version: 1.42.0 Command: /home/biocbuild/bbs-3.20-bioc/R/bin/R CMD check --install=check:leukemiasEset.install-out.txt --library=/home/biocbuild/bbs-3.20-bioc/R/site-library --timings leukemiasEset_1.42.0.tar.gz StartedAt: 2025-01-30 12:15:44 -0500 (Thu, 30 Jan 2025) EndedAt: 2025-01-30 12:16:07 -0500 (Thu, 30 Jan 2025) EllapsedTime: 22.6 seconds RetCode: 0 Status: OK CheckDir: leukemiasEset.Rcheck Warnings: 0