Package: lydata Version: 1.32.0 Command: /home/biocbuild/bbs-3.20-bioc/R/bin/R CMD build --keep-empty-dirs --no-resave-data lydata StartedAt: 2025-01-30 11:26:07 -0500 (Thu, 30 Jan 2025) EndedAt: 2025-01-30 11:28:49 -0500 (Thu, 30 Jan 2025) EllapsedTime: 162.2 seconds RetCode: 0 Status: OK PackageFile: lydata_1.32.0.tar.gz PackageFileSize: 158.9 MiB