Package: lydata Version: 1.32.0 Command: /home/biocbuild/bbs-3.20-bioc/R/bin/R CMD check --install=check:lydata.install-out.txt --library=/home/biocbuild/bbs-3.20-bioc/R/site-library --timings lydata_1.32.0.tar.gz StartedAt: 2025-01-30 12:17:43 -0500 (Thu, 30 Jan 2025) EndedAt: 2025-01-30 12:18:03 -0500 (Thu, 30 Jan 2025) EllapsedTime: 20.3 seconds RetCode: 0 Status: OK CheckDir: lydata.Rcheck Warnings: 0