Package: mCSEAdata Version: 1.26.1 Command: /home/biocbuild/bbs-3.20-bioc/R/bin/R CMD build --keep-empty-dirs --no-resave-data mCSEAdata StartedAt: 2025-02-06 11:25:46 -0500 (Thu, 06 Feb 2025) EndedAt: 2025-02-06 11:27:08 -0500 (Thu, 06 Feb 2025) EllapsedTime: 83.0 seconds RetCode: 0 Status: OK PackageFile: mCSEAdata_1.26.1.tar.gz PackageFileSize: 15.84 MiB