Package: macrophage Version: 1.22.0 Command: /home/biocbuild/bbs-3.20-bioc/R/bin/R CMD check --install=check:macrophage.install-out.txt --library=/home/biocbuild/bbs-3.20-bioc/R/site-library --timings macrophage_1.22.0.tar.gz StartedAt: 2025-02-11 12:18:36 -0500 (Tue, 11 Feb 2025) EndedAt: 2025-02-11 12:19:09 -0500 (Tue, 11 Feb 2025) EllapsedTime: 33.0 seconds RetCode: 0 Status: WARNINGS CheckDir: macrophage.Rcheck Warnings: 1