Package: maqcExpression4plex Version: 1.50.0 Command: /home/biocbuild/bbs-3.20-bioc/R/bin/R CMD build --keep-empty-dirs --no-resave-data maqcExpression4plex StartedAt: 2025-02-06 11:25:24 -0500 (Thu, 06 Feb 2025) EndedAt: 2025-02-06 11:25:29 -0500 (Thu, 06 Feb 2025) EllapsedTime: 5.0 seconds RetCode: 0 Status: OK PackageFile: maqcExpression4plex_1.50.0.tar.gz PackageFileSize: 6.578 MiB