Package: mcsurvdata Version: 1.24.0 Command: /home/biocbuild/bbs-3.20-bioc/R/bin/R CMD build --keep-empty-dirs --no-resave-data mcsurvdata StartedAt: 2025-02-11 11:26:14 -0500 (Tue, 11 Feb 2025) EndedAt: 2025-02-11 11:26:44 -0500 (Tue, 11 Feb 2025) EllapsedTime: 29.0 seconds RetCode: 0 Status: OK PackageFile: mcsurvdata_1.24.0.tar.gz PackageFileSize: 229.5 KiB