Package: mcsurvdata Version: 1.24.0 Command: /home/biocbuild/bbs-3.20-bioc/R/bin/R CMD check --install=check:mcsurvdata.install-out.txt --library=/home/biocbuild/bbs-3.20-bioc/R/site-library --timings mcsurvdata_1.24.0.tar.gz StartedAt: 2025-02-11 12:19:09 -0500 (Tue, 11 Feb 2025) EndedAt: 2025-02-11 12:20:38 -0500 (Tue, 11 Feb 2025) EllapsedTime: 89.0 seconds RetCode: 0 Status: OK CheckDir: mcsurvdata.Rcheck Warnings: 0