Package: metaMSdata Version: 1.42.0 Command: /home/biocbuild/bbs-3.20-bioc/R/bin/R CMD build --keep-empty-dirs --no-resave-data metaMSdata StartedAt: 2025-02-06 11:26:45 -0500 (Thu, 06 Feb 2025) EndedAt: 2025-02-06 11:31:50 -0500 (Thu, 06 Feb 2025) EllapsedTime: 305.9 seconds RetCode: 0 Status: OK PackageFile: metaMSdata_1.42.0.tar.gz PackageFileSize: 121.9 MiB