Package: methylclockData Version: 1.14.0 Command: /home/biocbuild/bbs-3.20-bioc/R/bin/R CMD build --keep-empty-dirs --no-resave-data methylclockData StartedAt: 2025-01-30 11:27:57 -0500 (Thu, 30 Jan 2025) EndedAt: 2025-01-30 11:29:16 -0500 (Thu, 30 Jan 2025) EllapsedTime: 79.3 seconds RetCode: 0 Status: OK PackageFile: methylclockData_1.14.0.tar.gz PackageFileSize: 230.8 KiB