Package: miRcompData Version: 1.36.0 Command: /home/biocbuild/bbs-3.20-bioc/R/bin/R CMD build --keep-empty-dirs --no-resave-data miRcompData StartedAt: 2025-02-06 11:28:03 -0500 (Thu, 06 Feb 2025) EndedAt: 2025-02-06 11:28:05 -0500 (Thu, 06 Feb 2025) EllapsedTime: 1.4 seconds RetCode: 0 Status: OK PackageFile: miRcompData_1.36.0.tar.gz PackageFileSize: 8.654 MiB