Package: miRcompData Version: 1.36.0 Command: /home/biocbuild/bbs-3.20-bioc/R/bin/R CMD check --install=check:miRcompData.install-out.txt --library=/home/biocbuild/bbs-3.20-bioc/R/site-library --timings miRcompData_1.36.0.tar.gz StartedAt: 2025-02-06 12:20:53 -0500 (Thu, 06 Feb 2025) EndedAt: 2025-02-06 12:21:18 -0500 (Thu, 06 Feb 2025) EllapsedTime: 25.3 seconds RetCode: 0 Status: OK CheckDir: miRcompData.Rcheck Warnings: 0