Package: microRNAome Version: 1.28.0 Maintainer: Matthew N. McCall MaintainerEmail: mccallm at gmail.com git_url: https://git.bioconductor.org/packages/microRNAome git_branch: RELEASE_3_20 git_last_commit: 3766e64 git_last_commit_date: 2024-10-29 09:46:59 -0500 (Tue, 29 Oct 2024)