Package: minfiData Version: 0.52.0 Command: /home/biocbuild/bbs-3.20-bioc/R/bin/R CMD build --keep-empty-dirs --no-resave-data minfiData StartedAt: 2025-02-11 11:28:07 -0500 (Tue, 11 Feb 2025) EndedAt: 2025-02-11 11:28:19 -0500 (Tue, 11 Feb 2025) EllapsedTime: 12.3 seconds RetCode: 0 Status: OK PackageFile: minfiData_0.52.0.tar.gz PackageFileSize: 74.56 MiB