Package: minfiDataEPIC Version: 1.32.0 Command: /home/biocbuild/bbs-3.20-bioc/R/bin/R CMD build --keep-empty-dirs --no-resave-data minfiDataEPIC StartedAt: 2025-01-30 11:28:58 -0500 (Thu, 30 Jan 2025) EndedAt: 2025-01-30 11:29:08 -0500 (Thu, 30 Jan 2025) EllapsedTime: 10.6 seconds RetCode: 0 Status: OK PackageFile: minfiDataEPIC_1.32.0.tar.gz PackageFileSize: 69.26 MiB