Package: minionSummaryData Version: 1.36.0 Command: /home/biocbuild/bbs-3.20-bioc/R/bin/R CMD build --keep-empty-dirs --no-resave-data minionSummaryData StartedAt: 2025-02-06 11:27:56 -0500 (Thu, 06 Feb 2025) EndedAt: 2025-02-06 11:28:08 -0500 (Thu, 06 Feb 2025) EllapsedTime: 12.1 seconds RetCode: 0 Status: OK PackageFile: minionSummaryData_1.36.0.tar.gz PackageFileSize: 134.7 MiB