Package: mosaicsExample Version: 1.44.0 Command: /home/biocbuild/bbs-3.20-bioc/R/bin/R CMD build --keep-empty-dirs --no-resave-data mosaicsExample StartedAt: 2025-01-30 11:29:09 -0500 (Thu, 30 Jan 2025) EndedAt: 2025-01-30 11:29:28 -0500 (Thu, 30 Jan 2025) EllapsedTime: 18.8 seconds RetCode: 0 Status: OK PackageFile: mosaicsExample_1.44.0.tar.gz PackageFileSize: 48.06 MiB