Package: msPurityData Version: 1.34.0 Command: /home/biocbuild/bbs-3.20-bioc/R/bin/R CMD build --keep-empty-dirs --no-resave-data msPurityData StartedAt: 2025-02-06 11:28:32 -0500 (Thu, 06 Feb 2025) EndedAt: 2025-02-06 11:30:58 -0500 (Thu, 06 Feb 2025) EllapsedTime: 145.7 seconds RetCode: 0 Status: OK PackageFile: msPurityData_1.34.0.tar.gz PackageFileSize: 233.5 MiB