Package: msd16s Version: 1.26.0 Command: /home/biocbuild/bbs-3.20-bioc/R/bin/R CMD build --keep-empty-dirs --no-resave-data msd16s StartedAt: 2025-01-30 11:29:17 -0500 (Thu, 30 Jan 2025) EndedAt: 2025-01-30 11:29:31 -0500 (Thu, 30 Jan 2025) EllapsedTime: 14.4 seconds RetCode: 0 Status: OK PackageFile: msd16s_1.26.0.tar.gz PackageFileSize: 1.808 MiB