Package: msqc1 Version: 1.34.0 Command: /home/biocbuild/bbs-3.20-bioc/R/bin/R CMD build --keep-empty-dirs --no-resave-data msqc1 StartedAt: 2025-02-11 11:29:11 -0500 (Tue, 11 Feb 2025) EndedAt: 2025-02-11 11:30:00 -0500 (Tue, 11 Feb 2025) EllapsedTime: 49.3 seconds RetCode: 0 Status: OK PackageFile: msqc1_1.34.0.tar.gz PackageFileSize: 7.936 MiB