Package: msqc1 Version: 1.34.0 Command: /home/biocbuild/bbs-3.20-bioc/R/bin/R CMD INSTALL msqc1 StartedAt: 2025-02-06 10:56:03 -0500 (Thu, 06 Feb 2025) EndedAt: 2025-02-06 10:56:09 -0500 (Thu, 06 Feb 2025) EllapsedTime: 5.5 seconds RetCode: 0 Status: OK