Package: muscData Version: 1.20.0 Command: /home/biocbuild/bbs-3.20-bioc/R/bin/R CMD check --install=check:muscData.install-out.txt --library=/home/biocbuild/bbs-3.20-bioc/R/site-library --timings muscData_1.20.0.tar.gz StartedAt: 2025-01-30 12:24:44 -0500 (Thu, 30 Jan 2025) EndedAt: 2025-01-30 12:27:26 -0500 (Thu, 30 Jan 2025) EllapsedTime: 161.6 seconds RetCode: 0 Status: WARNINGS CheckDir: muscData.Rcheck Warnings: 1