Package: nullrangesData Version: 1.12.0 Command: /home/biocbuild/bbs-3.20-bioc/R/bin/R CMD INSTALL nullrangesData StartedAt: 2025-02-11 10:58:48 -0500 (Tue, 11 Feb 2025) EndedAt: 2025-02-11 10:59:20 -0500 (Tue, 11 Feb 2025) EllapsedTime: 32.5 seconds RetCode: 0 Status: OK