Package: oct4 Version: 1.22.0 Command: /home/biocbuild/bbs-3.20-bioc/R/bin/R CMD check --install=check:oct4.install-out.txt --library=/home/biocbuild/bbs-3.20-bioc/R/site-library --timings oct4_1.22.0.tar.gz StartedAt: 2025-02-06 12:25:56 -0500 (Thu, 06 Feb 2025) EndedAt: 2025-02-06 12:26:15 -0500 (Thu, 06 Feb 2025) EllapsedTime: 19.0 seconds RetCode: 0 Status: OK CheckDir: oct4.Rcheck Warnings: 0