Package: oct4 Version: 1.22.0 Command: /home/biocbuild/bbs-3.20-bioc/R/bin/R CMD INSTALL oct4 StartedAt: 2025-02-06 10:55:23 -0500 (Thu, 06 Feb 2025) EndedAt: 2025-02-06 10:55:25 -0500 (Thu, 06 Feb 2025) EllapsedTime: 1.8 seconds RetCode: 0 Status: OK